BEGIN:VCALENDAR
VERSION:2.0
PRODID:-//Asociación de Donantes de Sangre Alto Aragón - ECPv6.15.18//NONSGML v1.0//EN
CALSCALE:GREGORIAN
METHOD:PUBLISH
X-WR-CALNAME:Asociación de Donantes de Sangre Alto Aragón
X-ORIGINAL-URL:https://donantesdesangrealtoaragon.es
X-WR-CALDESC:Eventos para Asociación de Donantes de Sangre Alto Aragón
REFRESH-INTERVAL;VALUE=DURATION:PT1H
X-Robots-Tag:noindex
X-PUBLISHED-TTL:PT1H
BEGIN:VTIMEZONE
TZID:Europe/Helsinki
BEGIN:DAYLIGHT
TZOFFSETFROM:+0200
TZOFFSETTO:+0300
TZNAME:EEST
DTSTART:20250330T010000
END:DAYLIGHT
BEGIN:STANDARD
TZOFFSETFROM:+0300
TZOFFSETTO:+0200
TZNAME:EET
DTSTART:20251026T010000
END:STANDARD
BEGIN:DAYLIGHT
TZOFFSETFROM:+0200
TZOFFSETTO:+0300
TZNAME:EEST
DTSTART:20260329T010000
END:DAYLIGHT
BEGIN:STANDARD
TZOFFSETFROM:+0300
TZOFFSETTO:+0200
TZNAME:EET
DTSTART:20261025T010000
END:STANDARD
BEGIN:DAYLIGHT
TZOFFSETFROM:+0200
TZOFFSETTO:+0300
TZNAME:EEST
DTSTART:20270328T010000
END:DAYLIGHT
BEGIN:STANDARD
TZOFFSETFROM:+0300
TZOFFSETTO:+0200
TZNAME:EET
DTSTART:20271031T010000
END:STANDARD
END:VTIMEZONE
BEGIN:VEVENT
DTSTART;TZID=Europe/Helsinki:20260505T180000
DTEND;TZID=Europe/Helsinki:20260505T213000
DTSTAMP:20260424T133523
CREATED:20260402T104504Z
LAST-MODIFIED:20260402T104504Z
UID:2375-1778004000-1778016600@donantesdesangrealtoaragon.es
SUMMARY:MONZÓN
DESCRIPTION:Centro Cívico de Monzón
URL:https://donantesdesangrealtoaragon.es/calendario/monzon/
LOCATION:Centro Cívico de Monzón\, Calle de San Mateo\, 15\, Monzón\, Huesca\, 22400\, España
CATEGORIES:Donaciones
END:VEVENT
BEGIN:VEVENT
DTSTART;TZID=Europe/Helsinki:20260506T180000
DTEND;TZID=Europe/Helsinki:20260506T213000
DTSTAMP:20260424T133523
CREATED:20260402T104658Z
LAST-MODIFIED:20260402T104658Z
UID:2381-1778090400-1778103000@donantesdesangrealtoaragon.es
SUMMARY:HUESCA
DESCRIPTION:Casa Familiar San Lorenzo de HH.FF. de Cruz Blanca
URL:https://donantesdesangrealtoaragon.es/calendario/huesca-4/
LOCATION:Casa Familiar San Lorenzo HH.FF. Cruz Blanca Huesca\, Calle Calatayud\, 24\, Huesca\, Huesca\, 22005\, Spain
CATEGORIES:Donaciones
END:VEVENT
BEGIN:VEVENT
DTSTART;TZID=Europe/Helsinki:20260507T180000
DTEND;TZID=Europe/Helsinki:20260507T213000
DTSTAMP:20260424T133523
CREATED:20260402T104739Z
LAST-MODIFIED:20260402T104739Z
UID:2383-1778176800-1778189400@donantesdesangrealtoaragon.es
SUMMARY:ESPLÚS
DESCRIPTION:Local Social de Esplús
URL:https://donantesdesangrealtoaragon.es/calendario/esplus/
LOCATION:Local Social Esplús\, San Vicente\, 6\, Esplús\, Huesca\, 22535\, España
CATEGORIES:Donaciones
END:VEVENT
BEGIN:VEVENT
DTSTART;TZID=Europe/Helsinki:20260512T180000
DTEND;TZID=Europe/Helsinki:20260512T213000
DTSTAMP:20260424T133523
CREATED:20260402T104538Z
LAST-MODIFIED:20260402T104538Z
UID:2377-1778608800-1778621400@donantesdesangrealtoaragon.es
SUMMARY:MONZÓN
DESCRIPTION:Centro Cívico de Monzón
URL:https://donantesdesangrealtoaragon.es/calendario/monzon-2/
LOCATION:Centro Cívico de Monzón\, Calle de San Mateo\, 15\, Monzón\, Huesca\, 22400\, España
CATEGORIES:Donaciones
END:VEVENT
BEGIN:VEVENT
DTSTART;TZID=Europe/Helsinki:20260514T180000
DTEND;TZID=Europe/Helsinki:20260514T213000
DTSTAMP:20260424T133523
CREATED:20260402T104823Z
LAST-MODIFIED:20260402T104823Z
UID:2385-1778781600-1778794200@donantesdesangrealtoaragon.es
SUMMARY:BARBASTRO
DESCRIPTION:Centro de Congresos de Barbastro
URL:https://donantesdesangrealtoaragon.es/calendario/barbastro-4/
LOCATION:Centro de Congresos de Barbastro\, Av. de la Estación\, 31\, Barbastro\, Huesca\, 22300\, España
CATEGORIES:Donaciones
END:VEVENT
BEGIN:VEVENT
DTSTART;TZID=Europe/Helsinki:20260516T103000
DTEND;TZID=Europe/Helsinki:20260516T133000
DTSTAMP:20260424T133523
CREATED:20260402T105142Z
LAST-MODIFIED:20260402T105142Z
UID:2391-1778927400-1778938200@donantesdesangrealtoaragon.es
SUMMARY:SABIÑÁNIGO
DESCRIPTION:Pirenarium
URL:https://donantesdesangrealtoaragon.es/calendario/sabinanigo-4/
LOCATION:Pirenarium\, Avda del Ejército\, 27\, Sabiñánigo\, Huesca\, 22609\, Spain
CATEGORIES:Donaciones
END:VEVENT
BEGIN:VEVENT
DTSTART;TZID=Europe/Helsinki:20260519T180000
DTEND;TZID=Europe/Helsinki:20260519T213000
DTSTAMP:20260424T133523
CREATED:20260402T104609Z
LAST-MODIFIED:20260402T104609Z
UID:2379-1779213600-1779226200@donantesdesangrealtoaragon.es
SUMMARY:MONZÓN
DESCRIPTION:Centro Cívico de Monzón
URL:https://donantesdesangrealtoaragon.es/calendario/monzon-3/
LOCATION:Centro Cívico de Monzón\, Calle de San Mateo\, 15\, Monzón\, Huesca\, 22400\, España
CATEGORIES:Donaciones
END:VEVENT
BEGIN:VEVENT
DTSTART;TZID=Europe/Helsinki:20260520T180000
DTEND;TZID=Europe/Helsinki:20260520T213000
DTSTAMP:20260424T133523
CREATED:20260402T105229Z
LAST-MODIFIED:20260402T105229Z
UID:2394-1779300000-1779312600@donantesdesangrealtoaragon.es
SUMMARY:HUESCA
DESCRIPTION:Hospital Sagrado Corazón de Jesús (Hospital Provincial)
URL:https://donantesdesangrealtoaragon.es/calendario/huesca-15/
LOCATION:Hospital Provincial de Huesca\, Paseo Lucas Mallada 22\, Huesca\, Huesca\, 22006\, Spain
CATEGORIES:Donaciones
END:VEVENT
BEGIN:VEVENT
DTSTART;TZID=Europe/Helsinki:20260521T180000
DTEND;TZID=Europe/Helsinki:20260521T213000
DTSTAMP:20260424T133523
CREATED:20260402T104900Z
LAST-MODIFIED:20260402T104900Z
UID:2387-1779386400-1779399000@donantesdesangrealtoaragon.es
SUMMARY:BARBASTRO
DESCRIPTION:Centro de Congresos de Barbastro
URL:https://donantesdesangrealtoaragon.es/calendario/barbastro-5/
LOCATION:Centro de Congresos de Barbastro\, Av. de la Estación\, 31\, Barbastro\, Huesca\, 22300\, España
CATEGORIES:Donaciones
END:VEVENT
BEGIN:VEVENT
DTSTART;TZID=Europe/Helsinki:20260527T180000
DTEND;TZID=Europe/Helsinki:20260527T213000
DTSTAMP:20260424T133523
CREATED:20260402T105308Z
LAST-MODIFIED:20260402T105308Z
UID:2396-1779904800-1779917400@donantesdesangrealtoaragon.es
SUMMARY:ESTADILLA
DESCRIPTION:Salón Buñero de Estadilla
URL:https://donantesdesangrealtoaragon.es/calendario/estadilla-2/
LOCATION:Salón Buñero de Estadilla\, Calle Nueva\, 3\, Estadilla\, Huesca\, 22423\, Spain
CATEGORIES:Donaciones
END:VEVENT
BEGIN:VEVENT
DTSTART;TZID=Europe/Helsinki:20260528T180000
DTEND;TZID=Europe/Helsinki:20260528T213000
DTSTAMP:20260424T133523
CREATED:20260402T104929Z
LAST-MODIFIED:20260402T104929Z
UID:2389-1779991200-1780003800@donantesdesangrealtoaragon.es
SUMMARY:BARBASTRO
DESCRIPTION:Centro de Congresos de Barbastro
URL:https://donantesdesangrealtoaragon.es/calendario/barbastro-6/
LOCATION:Centro de Congresos de Barbastro\, Av. de la Estación\, 31\, Barbastro\, Huesca\, 22300\, España
CATEGORIES:Donaciones
END:VEVENT
BEGIN:VEVENT
DTSTART;TZID=Europe/Helsinki:20260528T180000
DTEND;TZID=Europe/Helsinki:20260528T213000
DTSTAMP:20260424T133523
CREATED:20260402T105346Z
LAST-MODIFIED:20260402T105346Z
UID:2398-1779991200-1780003800@donantesdesangrealtoaragon.es
SUMMARY:GURREA DE GÁLLEGO
DESCRIPTION:Hogar del jubilado de Gurrea de Gállego
URL:https://donantesdesangrealtoaragon.es/calendario/gurrea-de-gallego-2/
LOCATION:Hogar del Jubilado Gurrea de Gállego\, Calle Mayor\, 125\, Gurrea de Gállego\, Huesca\, 22280\, España
CATEGORIES:Donaciones
END:VEVENT
BEGIN:VEVENT
DTSTART;TZID=Europe/Helsinki:20260529T180000
DTEND;TZID=Europe/Helsinki:20260529T213000
DTSTAMP:20260424T133523
CREATED:20260402T105457Z
LAST-MODIFIED:20260402T105457Z
UID:2400-1780077600-1780090200@donantesdesangrealtoaragon.es
SUMMARY:BINACED
DESCRIPTION:Consultorio Médico de Binaced
URL:https://donantesdesangrealtoaragon.es/calendario/binaced-2/
LOCATION:Consultorio Médico de Binaced\, Plaza Aragón\, 15\, Binaced\, Huesca\, 22510\, España
CATEGORIES:Donaciones
END:VEVENT
END:VCALENDAR