BEGIN:VCALENDAR
VERSION:2.0
PRODID:-//Asociación de Donantes de Sangre Alto Aragón - ECPv6.15.18//NONSGML v1.0//EN
CALSCALE:GREGORIAN
METHOD:PUBLISH
X-WR-CALNAME:Asociación de Donantes de Sangre Alto Aragón
X-ORIGINAL-URL:https://donantesdesangrealtoaragon.es
X-WR-CALDESC:Eventos para Asociación de Donantes de Sangre Alto Aragón
REFRESH-INTERVAL;VALUE=DURATION:PT1H
X-Robots-Tag:noindex
X-PUBLISHED-TTL:PT1H
BEGIN:VTIMEZONE
TZID:Europe/Helsinki
BEGIN:DAYLIGHT
TZOFFSETFROM:+0200
TZOFFSETTO:+0300
TZNAME:EEST
DTSTART:20240331T010000
END:DAYLIGHT
BEGIN:STANDARD
TZOFFSETFROM:+0300
TZOFFSETTO:+0200
TZNAME:EET
DTSTART:20241027T010000
END:STANDARD
BEGIN:DAYLIGHT
TZOFFSETFROM:+0200
TZOFFSETTO:+0300
TZNAME:EEST
DTSTART:20250330T010000
END:DAYLIGHT
BEGIN:STANDARD
TZOFFSETFROM:+0300
TZOFFSETTO:+0200
TZNAME:EET
DTSTART:20251026T010000
END:STANDARD
BEGIN:DAYLIGHT
TZOFFSETFROM:+0200
TZOFFSETTO:+0300
TZNAME:EEST
DTSTART:20260329T010000
END:DAYLIGHT
BEGIN:STANDARD
TZOFFSETFROM:+0300
TZOFFSETTO:+0200
TZNAME:EET
DTSTART:20261025T010000
END:STANDARD
END:VTIMEZONE
BEGIN:VEVENT
DTSTART;TZID=Europe/Helsinki:20251104T173000
DTEND;TZID=Europe/Helsinki:20251104T210000
DTSTAMP:20260421T010251
CREATED:20251024T152249Z
LAST-MODIFIED:20251024T152249Z
UID:2200-1762277400-1762290000@donantesdesangrealtoaragon.es
SUMMARY:HUESCA
DESCRIPTION:Parroquia del Perpetuo Socorro de Huesca
URL:https://donantesdesangrealtoaragon.es/calendario/huesca-5/
LOCATION:Parroquia del Perpetuo Socorro de Huesca\, Calle Valencia\, 3\, Huesca\, Huesca\, 22006\, Spain
CATEGORIES:Donaciones
END:VEVENT
BEGIN:VEVENT
DTSTART;TZID=Europe/Helsinki:20251105T173000
DTEND;TZID=Europe/Helsinki:20251105T210000
DTSTAMP:20260421T010251
CREATED:20251024T152331Z
LAST-MODIFIED:20251024T152331Z
UID:2203-1762363800-1762376400@donantesdesangrealtoaragon.es
SUMMARY:FONZ
DESCRIPTION:Consultorio Médico de Fonz
URL:https://donantesdesangrealtoaragon.es/calendario/fonz-2/
LOCATION:Consultorio Médico Fonz\, Plaza Mayor 3\, Fonz\, Huesca\, 22422\, España
CATEGORIES:Donaciones
END:VEVENT
BEGIN:VEVENT
DTSTART;TZID=Europe/Helsinki:20251106T173000
DTEND;TZID=Europe/Helsinki:20251106T210000
DTSTAMP:20260421T010251
CREATED:20251024T152412Z
LAST-MODIFIED:20251024T152412Z
UID:2206-1762450200-1762462800@donantesdesangrealtoaragon.es
SUMMARY:GRAÑÉN
DESCRIPTION:Centro de Salud de Grañén
URL:https://donantesdesangrealtoaragon.es/calendario/granen-2/
LOCATION:Centro de Salud Grañén\, Av. Flumen\, 9\, Grañén\, Huesca\, 22260\, España
CATEGORIES:Donaciones
END:VEVENT
BEGIN:VEVENT
DTSTART;TZID=Europe/Helsinki:20251111T173000
DTEND;TZID=Europe/Helsinki:20251111T210000
DTSTAMP:20260421T010251
CREATED:20251024T152500Z
LAST-MODIFIED:20251024T152500Z
UID:2208-1762882200-1762894800@donantesdesangrealtoaragon.es
SUMMARY:ESPLUS
DESCRIPTION:Salón del Ayuntamiento de Esplús
URL:https://donantesdesangrealtoaragon.es/calendario/esplus-2/
LOCATION:Local Social Esplús\, San Vicente\, 6\, Esplús\, Huesca\, 22535\, España
CATEGORIES:Donaciones
END:VEVENT
BEGIN:VEVENT
DTSTART;TZID=Europe/Helsinki:20251112T173000
DTEND;TZID=Europe/Helsinki:20251112T210000
DTSTAMP:20260421T010251
CREATED:20251024T152542Z
LAST-MODIFIED:20251024T152542Z
UID:2210-1762968600-1762981200@donantesdesangrealtoaragon.es
SUMMARY:HECHO
DESCRIPTION:Centro de Salud de Hecho
URL:https://donantesdesangrealtoaragon.es/calendario/hecho-2/
LOCATION:Centro de Salud de Hecho\, Paseo Carretera de Oza\, Hecho\, Huesca\, 22720\, Spain
CATEGORIES:Donaciones
END:VEVENT
BEGIN:VEVENT
DTSTART;TZID=Europe/Helsinki:20251113T173000
DTEND;TZID=Europe/Helsinki:20251113T210000
DTSTAMP:20260421T010251
CREATED:20251024T153239Z
LAST-MODIFIED:20251024T153239Z
UID:2212-1763055000-1763067600@donantesdesangrealtoaragon.es
SUMMARY:ESTADILLA
DESCRIPTION:Salón Buñero de Estadilla
URL:https://donantesdesangrealtoaragon.es/calendario/estadilla/
LOCATION:Salón Buñero de Estadilla\, Calle Nueva\, 3\, Estadilla\, Huesca\, 22423\, Spain
CATEGORIES:Donaciones
END:VEVENT
BEGIN:VEVENT
DTSTART;TZID=Europe/Helsinki:20251119T173000
DTEND;TZID=Europe/Helsinki:20251119T210000
DTSTAMP:20260421T010251
CREATED:20251024T153451Z
LAST-MODIFIED:20251024T153451Z
UID:2215-1763573400-1763586000@donantesdesangrealtoaragon.es
SUMMARY:HUESCA
DESCRIPTION:Hospital Sagrado Corazón de Jesús (Hospital Provincial) de Huesca
URL:https://donantesdesangrealtoaragon.es/calendario/huesca-6/
LOCATION:Hospital Provincial de Huesca\, Paseo Lucas Mallada 22\, Huesca\, Huesca\, 22006\, Spain
CATEGORIES:Donaciones
END:VEVENT
BEGIN:VEVENT
DTSTART;TZID=Europe/Helsinki:20251120T110000
DTEND;TZID=Europe/Helsinki:20251120T140000
DTSTAMP:20260421T010251
CREATED:20251024T153656Z
LAST-MODIFIED:20251024T153656Z
UID:2218-1763636400-1763647200@donantesdesangrealtoaragon.es
SUMMARY:BINEFAR
DESCRIPTION:Centro Cultural y Juvenil de Binéfar
URL:https://donantesdesangrealtoaragon.es/calendario/binefar-4/
LOCATION:Centro Cultural y Juvenil de Binéfar\, Avenida Lérida\, 77\, Binéfar\, Huesca\, 22500\, Spain
CATEGORIES:Donaciones
END:VEVENT
BEGIN:VEVENT
DTSTART;TZID=Europe/Helsinki:20251120T163000
DTEND;TZID=Europe/Helsinki:20251120T200000
DTSTAMP:20260421T010251
CREATED:20251024T153731Z
LAST-MODIFIED:20251024T153731Z
UID:2221-1763656200-1763668800@donantesdesangrealtoaragon.es
SUMMARY:BINEFAR
DESCRIPTION:Centro Cultural y Juvenil de Binéfar
URL:https://donantesdesangrealtoaragon.es/calendario/binefar-5/
LOCATION:Centro Cultural y Juvenil de Binéfar\, Avenida Lérida\, 77\, Binéfar\, Huesca\, 22500\, Spain
CATEGORIES:Donaciones
END:VEVENT
BEGIN:VEVENT
DTSTART;TZID=Europe/Helsinki:20251121T173000
DTEND;TZID=Europe/Helsinki:20251121T210000
DTSTAMP:20260421T010251
CREATED:20251024T153905Z
LAST-MODIFIED:20251024T153905Z
UID:2226-1763746200-1763758800@donantesdesangrealtoaragon.es
SUMMARY:SALLENT DE GALLEGO
DESCRIPTION:Centro Social de Sallent de Gállego
URL:https://donantesdesangrealtoaragon.es/calendario/sallent-de-gallego-2/
LOCATION:Centro Social Sallent de Gállego\, Calle de Francia\, 40\, Sallent de Gállego\, Huesca\, 22640\, España
CATEGORIES:Donaciones
END:VEVENT
BEGIN:VEVENT
DTSTART;TZID=Europe/Helsinki:20251125T173000
DTEND;TZID=Europe/Helsinki:20251125T210000
DTSTAMP:20260421T010251
CREATED:20251024T153949Z
LAST-MODIFIED:20251024T153949Z
UID:2228-1764091800-1764104400@donantesdesangrealtoaragon.es
SUMMARY:BENABARRE
DESCRIPTION:Centro de Salud de Benabarre
URL:https://donantesdesangrealtoaragon.es/calendario/benabarre-2/
LOCATION:Centro de Salud Benabarre\, Calle Aurignac\, 1\, Benabarre\, Huesca\, 22580\, España
CATEGORIES:Donaciones
END:VEVENT
BEGIN:VEVENT
DTSTART;TZID=Europe/Helsinki:20251126T093000
DTEND;TZID=Europe/Helsinki:20251126T130000
DTSTAMP:20260421T010251
CREATED:20251024T154104Z
LAST-MODIFIED:20251024T154104Z
UID:2230-1764149400-1764162000@donantesdesangrealtoaragon.es
SUMMARY:JACA
DESCRIPTION:Cuartel San Bernardo de Jaca
URL:https://donantesdesangrealtoaragon.es/calendario/jaca-3/
LOCATION:Cuartel San Bernardo de Jaca\, Jaca\, Huesca\, Spain
CATEGORIES:Donaciones
END:VEVENT
BEGIN:VEVENT
DTSTART;TZID=Europe/Helsinki:20251126T173000
DTEND;TZID=Europe/Helsinki:20251126T210000
DTSTAMP:20260421T010251
CREATED:20251024T154159Z
LAST-MODIFIED:20251024T154159Z
UID:2233-1764178200-1764190800@donantesdesangrealtoaragon.es
SUMMARY:OSSO DE CINCA
DESCRIPTION:Local de Mayores de Osso de Cinca
URL:https://donantesdesangrealtoaragon.es/calendario/osso-de-cinca-2/
LOCATION:Local de Mayores de Osso de Cinca\, Avenida Autonomía de Aragón\, 23\, Osso de Cinca\, Huesca\, 22532\, España
CATEGORIES:Donaciones
END:VEVENT
BEGIN:VEVENT
DTSTART;TZID=Europe/Helsinki:20251127T173000
DTEND;TZID=Europe/Helsinki:20251127T210000
DTSTAMP:20260421T010251
CREATED:20251024T153810Z
LAST-MODIFIED:20251024T153810Z
UID:2223-1764264600-1764277200@donantesdesangrealtoaragon.es
SUMMARY:BINEFAR
DESCRIPTION:Centro de Salud de Binéfar
URL:https://donantesdesangrealtoaragon.es/calendario/binefar-6/
LOCATION:Centro de Salud Binéfar\, Calle Clavijo\, 11\, Binéfar\, Huesca\, 22500\, España
CATEGORIES:Donaciones
END:VEVENT
END:VCALENDAR